BEGIN:VCALENDAR
VERSION:2.0
PRODID: 20231120T120000/19791
CALSCALE:GREGORIAN
METHOD:PUBLISH
BEGIN:VTIMEZONE
TZID:Europe/Prague
BEGIN:STANDARD
END:STANDARD
END:VTIMEZONE
BEGIN:VEVENT
DTSTART:20231120T120000
DTEND:20231120T120000
SUMMARY:Vánoční focení v MŠ
LOCATION:MŠ
DESCRIPTION:V pondělí 20. 11. se budou děti z MŠ fotit na vánoční fotky. Více informací najdete na dveřích při vstupu do jednotlivých tříd.
PRIORITY:3
END:VEVENT
END:VCALENDAR
