BEGIN:VCALENDAR
VERSION:2.0
PRODID: 20240104T000000/20056
CALSCALE:GREGORIAN
METHOD:PUBLISH
BEGIN:VTIMEZONE
TZID:Europe/Prague
BEGIN:STANDARD
END:STANDARD
END:VTIMEZONE
BEGIN:VEVENT
DTSTART:20240104T000000
DTEND:20240104T000000
SUMMARY:Divadlo "Koloběžka" - MŠ
LOCATION:MŠ
DESCRIPTION:Ve čtvrtek 4. 1. 2024 bude hrát pro všechny děti z MŠ divadlo Koloběžka pohádkový příběh o rodině Palečkovic .... aneb "Jak vyzrát na bacily".

PRIORITY:3
END:VEVENT
END:VCALENDAR
