BEGIN:VCALENDAR
VERSION:2.0
PRODID: 20240228T123000/20462
CALSCALE:GREGORIAN
METHOD:PUBLISH
BEGIN:VTIMEZONE
TZID:Europe/Prague
BEGIN:STANDARD
END:STANDARD
END:VTIMEZONE
BEGIN:VEVENT
DTSTART:20240228T123000
DTEND:20240228T170000
SUMMARY:Talentové zkoušky do třídy Světa vzdělání 
LOCATION:
DESCRIPTION:1. termín
PRIORITY:3
END:VEVENT
END:VCALENDAR
