BEGIN:VCALENDAR
VERSION:2.0
PRODID: 20240216T080000/20464
CALSCALE:GREGORIAN
METHOD:PUBLISH
BEGIN:VTIMEZONE
TZID:Europe/Prague
BEGIN:STANDARD
END:STANDARD
END:VTIMEZONE
BEGIN:VEVENT
DTSTART:20240216T080000
DTEND:20240216T120000
SUMMARY:Masopustní a karnevalový den
LOCATION:
DESCRIPTION:1. - 3. ročník
PRIORITY:3
END:VEVENT
END:VCALENDAR
