BEGIN:VCALENDAR
VERSION:2.0
PRODID: 20240509T120000/21145
CALSCALE:GREGORIAN
METHOD:PUBLISH
BEGIN:VTIMEZONE
TZID:Europe/Prague
BEGIN:STANDARD
END:STANDARD
END:VTIMEZONE
BEGIN:VEVENT
DTSTART:20240509T120000
DTEND:20240509T120000
SUMMARY:Myška Klárka a veverka Terka
LOCATION:MŠ
DESCRIPTION:Divadelní představení pro děti v MŠ. 
PRIORITY:3
END:VEVENT
END:VCALENDAR
