BEGIN:VCALENDAR
VERSION:2.0
PRODID: 20241119T070000/22870
CALSCALE:GREGORIAN
METHOD:PUBLISH
BEGIN:VTIMEZONE
TZID:Europe/Prague
BEGIN:STANDARD
END:STANDARD
END:VTIMEZONE
BEGIN:VEVENT
DTSTART:20241119T070000
DTEND:20241119T120000
SUMMARY:Vánoční fotografování
LOCATION:
DESCRIPTION:Vánoční fotografování žáků proběhne během výuky. Je nutno předem vyplnit objednávkový formulář  - viz informace od třídních učitelů.
PRIORITY:3
END:VEVENT
END:VCALENDAR
