BEGIN:VCALENDAR
VERSION:2.0
PRODID: 20241210T150000/22871
CALSCALE:GREGORIAN
METHOD:PUBLISH
BEGIN:VTIMEZONE
TZID:Europe/Prague
BEGIN:STANDARD
END:STANDARD
END:VTIMEZONE
BEGIN:VEVENT
DTSTART:20241210T150000
DTEND:20241210T170000
SUMMARY:Vánoční jarmark
LOCATION:
DESCRIPTION:Jarmark proběhne jako obvykle v přízemních prostorách školy.
PRIORITY:3
END:VEVENT
END:VCALENDAR
