BEGIN:VCALENDAR
VERSION:2.0
PRODID: 20241212T150000/23049
CALSCALE:GREGORIAN
METHOD:PUBLISH
BEGIN:VTIMEZONE
TZID:Europe/Prague
BEGIN:STANDARD
END:STANDARD
END:VTIMEZONE
BEGIN:VEVENT
DTSTART:20241212T150000
DTEND:20241212T160000
SUMMARY:Vánoční besídka v MŠ
LOCATION:
DESCRIPTION:Vystoupení dětí v jednotlivých třídách MŠ.
PRIORITY:3
END:VEVENT
END:VCALENDAR
