BEGIN:VCALENDAR
VERSION:2.0
PRODID: 20250428T083000/24000
CALSCALE:GREGORIAN
METHOD:PUBLISH
BEGIN:VTIMEZONE
TZID:Europe/Prague
BEGIN:STANDARD
END:STANDARD
END:VTIMEZONE
BEGIN:VEVENT
DTSTART:20250428T083000
DTEND:20250428T100000
SUMMARY:Divadlo Letadlo - MŠ
LOCATION:MŠ
DESCRIPTION:Divadelní představení pro děti v MŠ.
PRIORITY:3
END:VEVENT
END:VCALENDAR
