BEGIN:VCALENDAR
VERSION:2.0
PRODID: 20250512T120000/24478
CALSCALE:GREGORIAN
METHOD:PUBLISH
BEGIN:VTIMEZONE
TZID:Europe/Prague
BEGIN:STANDARD
END:STANDARD
END:VTIMEZONE
BEGIN:VEVENT
DTSTART:20250512T120000
DTEND:20250515T120000
SUMMARY:3. A+4. A škola v přírodě Karlov
LOCATION:
DESCRIPTION:
PRIORITY:3
END:VEVENT
END:VCALENDAR
