BEGIN:VCALENDAR
VERSION:2.0
PRODID: 20250514T080000/24480
CALSCALE:GREGORIAN
METHOD:PUBLISH
BEGIN:VTIMEZONE
TZID:Europe/Prague
BEGIN:STANDARD
END:STANDARD
END:VTIMEZONE
BEGIN:VEVENT
DTSTART:20250514T080000
DTEND:20250514T161500
SUMMARY:Dějepisná exkurze 7. ročník Lipník nad Bečvou, Helfštýn 
LOCATION:
DESCRIPTION:
PRIORITY:3
END:VEVENT
END:VCALENDAR
