BEGIN:VCALENDAR
VERSION:2.0
PRODID: 20250514T090000/24481
CALSCALE:GREGORIAN
METHOD:PUBLISH
BEGIN:VTIMEZONE
TZID:Europe/Prague
BEGIN:STANDARD
END:STANDARD
END:VTIMEZONE
BEGIN:VEVENT
DTSTART:20250514T090000
DTEND:20250514T123000
SUMMARY:4. B, 4. C, 5. A Divadlo loutek
LOCATION:
DESCRIPTION:hra Plasťáci útočí
PRIORITY:3
END:VEVENT
END:VCALENDAR
