BEGIN:VCALENDAR
VERSION:2.0
PRODID: 20250515T070000/24482
CALSCALE:GREGORIAN
METHOD:PUBLISH
BEGIN:VTIMEZONE
TZID:Europe/Prague
BEGIN:STANDARD
END:STANDARD
END:VTIMEZONE
BEGIN:VEVENT
DTSTART:20250515T070000
DTEND:20250515T133000
SUMMARY:6. A Svět techniky
LOCATION:
DESCRIPTION:Program Jak se dělá kniha
PRIORITY:3
END:VEVENT
END:VCALENDAR
