BEGIN:VCALENDAR
VERSION:2.0
PRODID: 20250612T080000/24594
CALSCALE:GREGORIAN
METHOD:PUBLISH
BEGIN:VTIMEZONE
TZID:Europe/Prague
BEGIN:STANDARD
END:STANDARD
END:VTIMEZONE
BEGIN:VEVENT
DTSTART:20250612T080000
DTEND:20250612T133000
SUMMARY:6. A historická exkurze Štramberk 
LOCATION:
DESCRIPTION:
PRIORITY:3
END:VEVENT
END:VCALENDAR
