BEGIN:VCALENDAR
VERSION:2.0
PRODID: 20250626T080000/24597
CALSCALE:GREGORIAN
METHOD:PUBLISH
BEGIN:VTIMEZONE
TZID:Europe/Prague
BEGIN:STANDARD
END:STANDARD
END:VTIMEZONE
BEGIN:VEVENT
DTSTART:20250626T080000
DTEND:20250626T123000
SUMMARY:Zvoní nám naposled 9. ABC
LOCATION:
DESCRIPTION:
PRIORITY:3
END:VEVENT
END:VCALENDAR
