BEGIN:VCALENDAR
VERSION:2.0
PRODID: 20250520T160000/24598
CALSCALE:GREGORIAN
METHOD:PUBLISH
BEGIN:VTIMEZONE
TZID:Europe/Prague
BEGIN:STANDARD
END:STANDARD
END:VTIMEZONE
BEGIN:VEVENT
DTSTART:20250520T160000
DTEND:20250520T170000
SUMMARY:Schůzka rodičů žáků 5. A, B
LOCATION:
DESCRIPTION:Informativní schůzka s vedením školy a třídními učiteli k přechodu dětí na 2. stupeň od 1. září 2025. Vize, možnosti a organizační zajištění výuky.
PRIORITY:3
END:VEVENT
END:VCALENDAR
