BEGIN:VCALENDAR
VERSION:2.0
PRODID: 20250603T083000/24672
CALSCALE:GREGORIAN
METHOD:PUBLISH
BEGIN:VTIMEZONE
TZID:Europe/Prague
BEGIN:STANDARD
END:STANDARD
END:VTIMEZONE
BEGIN:VEVENT
DTSTART:20250603T083000
DTEND:20250603T110000
SUMMARY:Canisterapie
LOCATION:MŠ
DESCRIPTION:Terapie pro tělo i duši - návštěva psího kamaráda v MŠ. 
PRIORITY:3
END:VEVENT
END:VCALENDAR
