BEGIN:VCALENDAR
VERSION:2.0
PRODID: 20250612T150000/24762
CALSCALE:GREGORIAN
METHOD:PUBLISH
BEGIN:VTIMEZONE
TZID:Europe/Prague
BEGIN:STANDARD
END:STANDARD
END:VTIMEZONE
BEGIN:VEVENT
DTSTART:20250612T150000
DTEND:20250613T120000
SUMMARY:PŘESPÁVAČKA - MŠ
LOCATION:MŠ
DESCRIPTION:Rozloučení se školkou pro předškoláky.
PRIORITY:3
END:VEVENT
END:VCALENDAR
