BEGIN:VCALENDAR
VERSION:2.0
PRODID: 20250619T150000/24763
CALSCALE:GREGORIAN
METHOD:PUBLISH
BEGIN:VTIMEZONE
TZID:Europe/Prague
BEGIN:STANDARD
END:STANDARD
END:VTIMEZONE
BEGIN:VEVENT
DTSTART:20250619T150000
DTEND:20250619T170000
SUMMARY:Rozloučení s předškoláky - MŠ
LOCATION:MŠ
DESCRIPTION:Rozloučení s dětmi, které odcházejí do 1. třídy a přípravné třídy ZŠ. 
PRIORITY:3
END:VEVENT
END:VCALENDAR
