BEGIN:VCALENDAR
VERSION:2.0
PRODID: 20250623T080000/24816
CALSCALE:GREGORIAN
METHOD:PUBLISH
BEGIN:VTIMEZONE
TZID:Europe/Prague
BEGIN:STANDARD
END:STANDARD
END:VTIMEZONE
BEGIN:VEVENT
DTSTART:20250623T080000
DTEND:20250627T120000
SUMMARY:Ředitelské volno pro vybrané třídy 
LOCATION:
DESCRIPTION: Přípravná třída, 1. C, 2. C, 1. B, 2. B, 1. A,3. A, 2. A, 4. A a 4. B.
PRIORITY:3
END:VEVENT
END:VCALENDAR
