BEGIN:VCALENDAR
VERSION:2.0
PRODID: 20250916T093000/25412
CALSCALE:GREGORIAN
METHOD:PUBLISH
BEGIN:VTIMEZONE
TZID:Europe/Prague
BEGIN:STANDARD
END:STANDARD
END:VTIMEZONE
BEGIN:VEVENT
DTSTART:20250916T093000
DTEND:20250916T100000
SUMMARY:Kachlovka ve výstavním pavilonu - MŠ
LOCATION:MŠ
DESCRIPTION:Povídání o historii kachlovky, malování na kartónové kachličky.
PRIORITY:3
END:VEVENT
END:VCALENDAR
