BEGIN:VCALENDAR
VERSION:2.0
PRODID: 20250918T090000/25413
CALSCALE:GREGORIAN
METHOD:PUBLISH
BEGIN:VTIMEZONE
TZID:Europe/Prague
BEGIN:STANDARD
END:STANDARD
END:VTIMEZONE
BEGIN:VEVENT
DTSTART:20250918T090000
DTEND:20250918T110000
SUMMARY:MINIZÁTOPEK - MŠ
LOCATION:MŠ
DESCRIPTION:Štafetový běh pro děti z mateřských škol. 
PRIORITY:3
END:VEVENT
END:VCALENDAR
