BEGIN:VCALENDAR
VERSION:2.0
PRODID: 20251023T105500/25857
CALSCALE:GREGORIAN
METHOD:PUBLISH
BEGIN:VTIMEZONE
TZID:Europe/Prague
BEGIN:STANDARD
END:STANDARD
END:VTIMEZONE
BEGIN:VEVENT
DTSTART:20251023T105500
DTEND:20251023T114000
SUMMARY:Světem hudby
LOCATION:
DESCRIPTION:Hudební program v tělocvičně pro vybrané třídy. 1. A,B,C, 2. A, 3. A,B,C, 4. A, 5. A
70,-/žák
PRIORITY:3
END:VEVENT
END:VCALENDAR
