BEGIN:VCALENDAR
VERSION:2.0
PRODID: 20251030T000000/25858
CALSCALE:GREGORIAN
METHOD:PUBLISH
BEGIN:VTIMEZONE
TZID:Europe/Prague
BEGIN:STANDARD
END:STANDARD
END:VTIMEZONE
BEGIN:VEVENT
DTSTART:20251030T000000
DTEND:20251031T000000
SUMMARY:Ředitelské volno
LOCATION:
DESCRIPTION:
PRIORITY:3
END:VEVENT
END:VCALENDAR
