BEGIN:VCALENDAR
VERSION:2.0
PRODID: 20251106T080000/25859
CALSCALE:GREGORIAN
METHOD:PUBLISH
BEGIN:VTIMEZONE
TZID:Europe/Prague
BEGIN:STANDARD
END:STANDARD
END:VTIMEZONE
BEGIN:VEVENT
DTSTART:20251106T080000
DTEND:20251106T123000
SUMMARY:Vánoční fotografování 
LOCATION:
DESCRIPTION:Pro přihlášené žáky.
PRIORITY:3
END:VEVENT
END:VCALENDAR
