BEGIN:VCALENDAR
VERSION:2.0
PRODID: 20260108T180000/25877
CALSCALE:GREGORIAN
METHOD:PUBLISH
BEGIN:VTIMEZONE
TZID:Europe/Prague
BEGIN:STANDARD
END:STANDARD
END:VTIMEZONE
BEGIN:VEVENT
DTSTART:20260108T180000
DTEND:20260108T190000
SUMMARY:Informační schůzka Světa vzdělání pro rodiče předškoláků
LOCATION:1. A
DESCRIPTION:Schůzka pro rodiče budoucích prvňáčků k seznámení s koncepcí třídy Světa vzdělání.
PRIORITY:3
END:VEVENT
END:VCALENDAR
