BEGIN:VCALENDAR
VERSION:2.0
PRODID: 20251210T130000/25878
CALSCALE:GREGORIAN
METHOD:PUBLISH
BEGIN:VTIMEZONE
TZID:Europe/Prague
BEGIN:STANDARD
END:STANDARD
END:VTIMEZONE
BEGIN:VEVENT
DTSTART:20251210T130000
DTEND:20251210T170000
SUMMARY:1. Talentové zkoušky do třídy Světa vzdělání
LOCATION:
DESCRIPTION:Pro budoucí prvňáčky.
PRIORITY:3
END:VEVENT
END:VCALENDAR
