BEGIN:VCALENDAR
VERSION:2.0
PRODID: 20260128T130000/25879
CALSCALE:GREGORIAN
METHOD:PUBLISH
BEGIN:VTIMEZONE
TZID:Europe/Prague
BEGIN:STANDARD
END:STANDARD
END:VTIMEZONE
BEGIN:VEVENT
DTSTART:20260128T130000
DTEND:20260128T170000
SUMMARY:2. Talentové zkoušky do třídy Světa vzdělání
LOCATION:
DESCRIPTION:Pro budoucí prvňáčky.
PRIORITY:3
END:VEVENT
END:VCALENDAR
