BEGIN:VCALENDAR
VERSION:2.0
PRODID: 20251119T080000/25880
CALSCALE:GREGORIAN
METHOD:PUBLISH
BEGIN:VTIMEZONE
TZID:Europe/Prague
BEGIN:STANDARD
END:STANDARD
END:VTIMEZONE
BEGIN:VEVENT
DTSTART:20251119T080000
DTEND:20251119T140000
SUMMARY:Den ošklivých svetrů
LOCATION:
DESCRIPTION:Oblečte si co nejošklivější svetr, případně jej doplňte nevkusnými doplňky :-)
PRIORITY:3
END:VEVENT
END:VCALENDAR
