BEGIN:VCALENDAR
VERSION:2.0
PRODID: 20251024T083000/25882
CALSCALE:GREGORIAN
METHOD:PUBLISH
BEGIN:VTIMEZONE
TZID:Europe/Prague
BEGIN:STANDARD
END:STANDARD
END:VTIMEZONE
BEGIN:VEVENT
DTSTART:20251024T083000
DTEND:20251024T130000
SUMMARY:6. a 7. ročník florbal chlapci
LOCATION:
DESCRIPTION:Okresní kolo
PRIORITY:3
END:VEVENT
END:VCALENDAR
