BEGIN:VCALENDAR
VERSION:2.0
PRODID: 20251104T083000/25883
CALSCALE:GREGORIAN
METHOD:PUBLISH
BEGIN:VTIMEZONE
TZID:Europe/Prague
BEGIN:STANDARD
END:STANDARD
END:VTIMEZONE
BEGIN:VEVENT
DTSTART:20251104T083000
DTEND:20251104T130000
SUMMARY:2. až 5. ročník miniházená
LOCATION:
DESCRIPTION:2. kolo
vybraní žáci, hala EZ
PRIORITY:3
END:VEVENT
END:VCALENDAR
