BEGIN:VCALENDAR
VERSION:2.0
PRODID: 20251114T083000/25884
CALSCALE:GREGORIAN
METHOD:PUBLISH
BEGIN:VTIMEZONE
TZID:Europe/Prague
BEGIN:STANDARD
END:STANDARD
END:VTIMEZONE
BEGIN:VEVENT
DTSTART:20251114T083000
DTEND:20251114T133000
SUMMARY:2. až 5. ročník florbal
LOCATION:
DESCRIPTION:Čeps cup
vybraní žáci, hala EZ
PRIORITY:3
END:VEVENT
END:VCALENDAR
